BEGIN:VCALENDAR
VERSION:2.0
PRODID:-//Georgia CPR - ECPv6.15.20//NONSGML v1.0//EN
CALSCALE:GREGORIAN
METHOD:PUBLISH
X-WR-CALNAME:Georgia CPR
X-ORIGINAL-URL:https://www.gacpr.com
X-WR-CALDESC:Events for Georgia CPR
REFRESH-INTERVAL;VALUE=DURATION:PT1H
X-Robots-Tag:noindex
X-PUBLISHED-TTL:PT1H
BEGIN:VTIMEZONE
TZID:America/New_York
BEGIN:DAYLIGHT
TZOFFSETFROM:-0500
TZOFFSETTO:-0400
TZNAME:EDT
DTSTART:20240310T070000
END:DAYLIGHT
BEGIN:STANDARD
TZOFFSETFROM:-0400
TZOFFSETTO:-0500
TZNAME:EST
DTSTART:20241103T060000
END:STANDARD
BEGIN:DAYLIGHT
TZOFFSETFROM:-0500
TZOFFSETTO:-0400
TZNAME:EDT
DTSTART:20250309T070000
END:DAYLIGHT
BEGIN:STANDARD
TZOFFSETFROM:-0400
TZOFFSETTO:-0500
TZNAME:EST
DTSTART:20251102T060000
END:STANDARD
BEGIN:DAYLIGHT
TZOFFSETFROM:-0500
TZOFFSETTO:-0400
TZNAME:EDT
DTSTART:20260308T070000
END:DAYLIGHT
BEGIN:STANDARD
TZOFFSETFROM:-0400
TZOFFSETTO:-0500
TZNAME:EST
DTSTART:20261101T060000
END:STANDARD
END:VTIMEZONE
BEGIN:VEVENT
DTSTART;TZID=America/New_York:20251130T140000
DTEND;TZID=America/New_York:20251130T180000
DTSTAMP:20260423T134605
CREATED:20251019T173314Z
LAST-MODIFIED:20251019T173314Z
UID:38656-1764511200-1764525600@www.gacpr.com
SUMMARY:BLS for Healthcare Providers CPR Certification in Atlanta
DESCRIPTION:BLS Healthcare Provider \nCPR Training for Healthcare professionals (always includes CPR for all ages\, AED\, foreign-body airway obstruction). Take your BLS Healthcare Provider November 30th\, 2025 with Georgia CPR! \nBLS Healthcare Provider November 30th\, 2025\nOur BLS Healthcare Providers course November 30th\, 2025\, is designed for Atlanta healthcare providers. This CPR training certifies providers from EMS personnel and physician assistants\, to doctors\, dentists\, nurses\, and respiratory therapists who all must have a BLS Certification (or BLS recertification card) documenting successful completion of a CPR course. While BLS is focused on clinical\, medical settings\, those who are interested and are not currently employed in the medical field are always welcome! \nBLS for Healthcare Providers Course covers basic material such as adult CPR and pediatric CPR (including a focus on a team approach and use of the BVM) foreign-body airway obstruction and AED (automatic external defibrillation) instruction. \nAny BLS for Healthcare Providers should always cover the following topics:\n\nScene Safety\nPatient assessment\nHelp for breathing patients\nProviding treatment for non-breathing patients who have signs of sufficient circulation\nTreatment for patients who are neither breathing nor have signs of adequate circulation (CPR)\nIndications for use\, and instruction in the use of an AED (Automated External Defibrillator)\nTreatment for patients with a severe airway obstruction – otherwise known as choking…\nAll topics covered should address infants\, children and adult patients\n\n\nOur price for our Atlanta BLS Healthcare Provider November 30th\, 2025 certification is $70. We believe our rates are much less than the Red Cross CPR Certification classes. American Heart Association BLS is the accepted CPR class for Healthcare Providers in the United States. Online BLS Certification classes state they are the same as AHA but are not. If you need BLS Healthcare Provider CPR Certification\, make sure it is an American Heart Association class! \nWe take great pride in the quality of our classes and our great BLS class prices! We want you to enjoy your BLS Class!
URL:https://www.gacpr.com/class/bls-for-healthcare-providers-cpr-certification-in-atlanta-14/
LOCATION:Georgia CPR LLC\, 2296 Henderson Mill Rd\, Suite 102\, Atlanta\, GA\, 30345\, United States
CATEGORIES:BLS
ATTACH;FMTTYPE=image/jpeg:https://www.gacpr.com/wp-content/uploads/2016/02/BLS.jpg
ORGANIZER;CN="Ben Karp":MAILTO:ben@gacpr.com
GEO:33.852438;-84.259313
X-APPLE-STRUCTURED-LOCATION;VALUE=URI;X-ADDRESS=Georgia CPR LLC 2296 Henderson Mill Rd Suite 102 Atlanta GA 30345 United States;X-APPLE-RADIUS=500;X-TITLE=2296 Henderson Mill Rd\, Suite 102:geo:-84.259313,33.852438
END:VEVENT
BEGIN:VEVENT
DTSTART;TZID=America/New_York:20251123T140000
DTEND;TZID=America/New_York:20251123T180000
DTSTAMP:20260423T134605
CREATED:20251019T173306Z
LAST-MODIFIED:20251019T173306Z
UID:38655-1763906400-1763920800@www.gacpr.com
SUMMARY:BLS for Healthcare Providers CPR Certification in Atlanta
DESCRIPTION:BLS Healthcare Provider \nCPR Training for Healthcare professionals (always includes CPR for all ages\, AED\, foreign-body airway obstruction). Take your BLS Healthcare Provider November 23rd\, 2025 with Georgia CPR! \nBLS Healthcare Provider November 23rd\, 2025\nOur BLS Healthcare Providers course November 23rd\, 2025\, is designed for Atlanta healthcare providers. This CPR training certifies providers from EMS personnel and physician assistants\, to doctors\, dentists\, nurses\, and respiratory therapists who all must have a BLS Certification (or BLS recertification card) documenting successful completion of a CPR course. While BLS is focused on clinical\, medical settings\, those who are interested and are not currently employed in the medical field are always welcome! \nBLS for Healthcare Providers Course covers basic material such as adult CPR and pediatric CPR (including a focus on a team approach and use of the BVM) foreign-body airway obstruction and AED (automatic external defibrillation) instruction. \nAny BLS for Healthcare Providers should always cover the following topics:\n\nScene Safety\nPatient assessment\nHelp for breathing patients\nProviding treatment for non-breathing patients who have signs of sufficient circulation\nTreatment for patients who are neither breathing nor have signs of adequate circulation (CPR)\nIndications for use\, and instruction in the use of an AED (Automated External Defibrillator)\nTreatment for patients with a severe airway obstruction – otherwise known as choking…\nAll topics covered should address infants\, children and adult patients\n\n\nOur price for our Atlanta BLS Healthcare Provider November 23rd\, 2025 certification is $70. We believe our rates are much less than the Red Cross CPR Certification classes. American Heart Association BLS is the accepted CPR class for Healthcare Providers in the United States. Online BLS Certification classes state they are the same as AHA but are not. If you need BLS Healthcare Provider CPR Certification\, make sure it is an American Heart Association class! \nWe take great pride in the quality of our classes and our great BLS class prices! We want you to enjoy your BLS Class!
URL:https://www.gacpr.com/class/bls-for-healthcare-providers-cpr-certification-in-atlanta-13/
LOCATION:Georgia CPR LLC\, 2296 Henderson Mill Rd\, Suite 102\, Atlanta\, GA\, 30345\, United States
CATEGORIES:BLS
ATTACH;FMTTYPE=image/jpeg:https://www.gacpr.com/wp-content/uploads/2016/02/BLS.jpg
ORGANIZER;CN="Ben Karp":MAILTO:ben@gacpr.com
GEO:33.852438;-84.259313
X-APPLE-STRUCTURED-LOCATION;VALUE=URI;X-ADDRESS=Georgia CPR LLC 2296 Henderson Mill Rd Suite 102 Atlanta GA 30345 United States;X-APPLE-RADIUS=500;X-TITLE=2296 Henderson Mill Rd\, Suite 102:geo:-84.259313,33.852438
END:VEVENT
BEGIN:VEVENT
DTSTART;TZID=America/New_York:20251116T140000
DTEND;TZID=America/New_York:20251116T180000
DTSTAMP:20260423T134605
CREATED:20251019T173259Z
LAST-MODIFIED:20251019T173259Z
UID:38654-1763301600-1763316000@www.gacpr.com
SUMMARY:BLS for Healthcare Providers CPR Certification in Atlanta
DESCRIPTION:BLS Healthcare Provider \nCPR Training for Healthcare professionals (always includes CPR for all ages\, AED\, foreign-body airway obstruction). Take your BLS Healthcare Provider November 16th\, 2025 with Georgia CPR! \nBLS Healthcare Provider November 16th\, 2025\nOur BLS Healthcare Providers course November 16th\, 2025\, is designed for Atlanta healthcare providers. This CPR training certifies providers from EMS personnel and physician assistants\, to doctors\, dentists\, nurses\, and respiratory therapists who all must have a BLS Certification (or BLS recertification card) documenting successful completion of a CPR course. While BLS is focused on clinical\, medical settings\, those who are interested and are not currently employed in the medical field are always welcome! \nBLS for Healthcare Providers Course covers basic material such as adult CPR and pediatric CPR (including a focus on a team approach and use of the BVM) foreign-body airway obstruction and AED (automatic external defibrillation) instruction. \nAny BLS for Healthcare Providers should always cover the following topics:\n\nScene Safety\nPatient assessment\nHelp for breathing patients\nProviding treatment for non-breathing patients who have signs of sufficient circulation\nTreatment for patients who are neither breathing nor have signs of adequate circulation (CPR)\nIndications for use\, and instruction in the use of an AED (Automated External Defibrillator)\nTreatment for patients with a severe airway obstruction – otherwise known as choking…\nAll topics covered should address infants\, children and adult patients\n\n\nOur price for our Atlanta BLS Healthcare Provider November 16th\, 2025 certification is $70. We believe our rates are much less than the Red Cross CPR Certification classes. American Heart Association BLS is the accepted CPR class for Healthcare Providers in the United States. Online BLS Certification classes state they are the same as AHA but are not. If you need BLS Healthcare Provider CPR Certification\, make sure it is an American Heart Association class! \nWe take great pride in the quality of our classes and our great BLS class prices! We want you to enjoy your BLS Class!
URL:https://www.gacpr.com/class/bls-for-healthcare-providers-cpr-certification-in-atlanta-12/
LOCATION:Georgia CPR LLC\, 2296 Henderson Mill Rd\, Suite 102\, Atlanta\, GA\, 30345\, United States
CATEGORIES:BLS
ATTACH;FMTTYPE=image/jpeg:https://www.gacpr.com/wp-content/uploads/2016/02/BLS.jpg
ORGANIZER;CN="Ben Karp":MAILTO:ben@gacpr.com
GEO:33.852438;-84.259313
X-APPLE-STRUCTURED-LOCATION;VALUE=URI;X-ADDRESS=Georgia CPR LLC 2296 Henderson Mill Rd Suite 102 Atlanta GA 30345 United States;X-APPLE-RADIUS=500;X-TITLE=2296 Henderson Mill Rd\, Suite 102:geo:-84.259313,33.852438
END:VEVENT
BEGIN:VEVENT
DTSTART;TZID=America/New_York:20251109T140000
DTEND;TZID=America/New_York:20251109T180000
DTSTAMP:20260423T134605
CREATED:20250926T122654Z
LAST-MODIFIED:20250926T122654Z
UID:38204-1762696800-1762711200@www.gacpr.com
SUMMARY:BLS for Healthcare Providers CPR Certification in Atlanta
DESCRIPTION:BLS Healthcare Provider \nCPR Training for Healthcare professionals (always includes CPR for all ages\, AED\, foreign-body airway obstruction). Take your BLS Healthcare Provider November 9th\, 2025 with Georgia CPR! \nBLS Healthcare Provider November 9th\, 2025\nOur BLS Healthcare Providers course November 9th\, 2025\, is designed for Atlanta healthcare providers. This CPR training certifies providers from EMS personnel and physician assistants\, to doctors\, dentists\, nurses\, and respiratory therapists who all must have a BLS Certification (or BLS recertification card) documenting successful completion of a CPR course. While BLS is focused on clinical\, medical settings\, those who are interested and are not currently employed in the medical field are always welcome! \nBLS for Healthcare Providers Course covers basic material such as adult CPR and pediatric CPR (including a focus on a team approach and use of the BVM) foreign-body airway obstruction and AED (automatic external defibrillation) instruction. \nAny BLS for Healthcare Providers should always cover the following topics:\n\nScene Safety\nPatient assessment\nHelp for breathing patients\nProviding treatment for non-breathing patients who have signs of sufficient circulation\nTreatment for patients who are neither breathing nor have signs of adequate circulation (CPR)\nIndications for use\, and instruction in the use of an AED (Automated External Defibrillator)\nTreatment for patients with a severe airway obstruction – otherwise known as choking…\nAll topics covered should address infants\, children and adult patients\n\n\nOur price for our Atlanta BLS Healthcare Provider November 9th\, 2025 certification is $70. We believe our rates are much less than the Red Cross CPR Certification classes. American Heart Association BLS is the accepted CPR class for Healthcare Providers in the United States. Online BLS Certification classes state they are the same as AHA but are not. If you need BLS Healthcare Provider CPR Certification\, make sure it is an American Heart Association class! \nWe take great pride in the quality of our classes and our great BLS class prices! We want you to enjoy your BLS Class!
URL:https://www.gacpr.com/class/bls-for-healthcare-providers-cpr-certification-in-atlanta-8/
LOCATION:Georgia CPR LLC\, 2296 Henderson Mill Rd\, Suite 102\, Atlanta\, GA\, 30345\, United States
CATEGORIES:BLS
ATTACH;FMTTYPE=image/jpeg:https://www.gacpr.com/wp-content/uploads/2016/02/BLS.jpg
ORGANIZER;CN="Ben Karp":MAILTO:ben@gacpr.com
GEO:33.852438;-84.259313
X-APPLE-STRUCTURED-LOCATION;VALUE=URI;X-ADDRESS=Georgia CPR LLC 2296 Henderson Mill Rd Suite 102 Atlanta GA 30345 United States;X-APPLE-RADIUS=500;X-TITLE=2296 Henderson Mill Rd\, Suite 102:geo:-84.259313,33.852438
END:VEVENT
BEGIN:VEVENT
DTSTART;TZID=America/New_York:20251102T140000
DTEND;TZID=America/New_York:20251102T180000
DTSTAMP:20260423T134605
CREATED:20250926T122701Z
LAST-MODIFIED:20250926T122701Z
UID:38203-1762092000-1762106400@www.gacpr.com
SUMMARY:BLS for Healthcare Providers CPR Certification in Atlanta
DESCRIPTION:BLS Healthcare Provider \nCPR Training for Healthcare professionals (always includes CPR for all ages\, AED\, foreign-body airway obstruction). Take your BLS Healthcare Provider November 2nd\, 2025 with Georgia CPR! \nBLS Healthcare Provider November 2nd\, 2025\nOur BLS Healthcare Providers course November 2nd\, 2025\, is designed for Atlanta healthcare providers. This CPR training certifies providers from EMS personnel and physician assistants\, to doctors\, dentists\, nurses\, and respiratory therapists who all must have a BLS Certification (or BLS recertification card) documenting successful completion of a CPR course. While BLS is focused on clinical\, medical settings\, those who are interested and are not currently employed in the medical field are always welcome! \nBLS for Healthcare Providers Course covers basic material such as adult CPR and pediatric CPR (including a focus on a team approach and use of the BVM) foreign-body airway obstruction and AED (automatic external defibrillation) instruction. \nAny BLS for Healthcare Providers should always cover the following topics:\n\nScene Safety\nPatient assessment\nHelp for breathing patients\nProviding treatment for non-breathing patients who have signs of sufficient circulation\nTreatment for patients who are neither breathing nor have signs of adequate circulation (CPR)\nIndications for use\, and instruction in the use of an AED (Automated External Defibrillator)\nTreatment for patients with a severe airway obstruction – otherwise known as choking…\nAll topics covered should address infants\, children and adult patients\n\n\nOur price for our Atlanta BLS Healthcare Provider November 2nd\, 2025 certification is $70. We believe our rates are much less than the Red Cross CPR Certification classes. American Heart Association BLS is the accepted CPR class for Healthcare Providers in the United States. Online BLS Certification classes state they are the same as AHA but are not. If you need BLS Healthcare Provider CPR Certification\, make sure it is an American Heart Association class! \nWe take great pride in the quality of our classes and our great BLS class prices! We want you to enjoy your BLS Class!
URL:https://www.gacpr.com/class/bls-for-healthcare-providers-cpr-certification-in-atlanta-9/
LOCATION:Georgia CPR LLC\, 2296 Henderson Mill Rd\, Suite 102\, Atlanta\, GA\, 30345\, United States
CATEGORIES:BLS
ORGANIZER;CN="Ben Karp":MAILTO:ben@gacpr.com
GEO:33.852438;-84.259313
X-APPLE-STRUCTURED-LOCATION;VALUE=URI;X-ADDRESS=Georgia CPR LLC 2296 Henderson Mill Rd Suite 102 Atlanta GA 30345 United States;X-APPLE-RADIUS=500;X-TITLE=2296 Henderson Mill Rd\, Suite 102:geo:-84.259313,33.852438
END:VEVENT
BEGIN:VEVENT
DTSTART;TZID=America/New_York:20251026T140000
DTEND;TZID=America/New_York:20251026T180000
DTSTAMP:20260423T134605
CREATED:20250926T122717Z
LAST-MODIFIED:20250926T122717Z
UID:38202-1761487200-1761501600@www.gacpr.com
SUMMARY:BLS for Healthcare Providers CPR Certification in Atlanta
DESCRIPTION:BLS Healthcare Provider \nCPR Training for Healthcare professionals (always includes CPR for all ages\, AED\, foreign-body airway obstruction). Take your BLS Healthcare Provider October 26th\, 2025 with Georgia CPR! \nBLS Healthcare Provider October 26th\, 2025\nOur BLS Healthcare Providers course October 26th\, 2025\, is designed for Atlanta healthcare providers. This CPR training certifies providers from EMS personnel and physician assistants\, to doctors\, dentists\, nurses\, and respiratory therapists who all must have a BLS Certification (or BLS recertification card) documenting successful completion of a CPR course. While BLS is focused on clinical\, medical settings\, those who are interested and are not currently employed in the medical field are always welcome! \nBLS for Healthcare Providers Course covers basic material such as adult CPR and pediatric CPR (including a focus on a team approach and use of the BVM) foreign-body airway obstruction and AED (automatic external defibrillation) instruction. \nAny BLS for Healthcare Providers should always cover the following topics:\n\nScene Safety\nPatient assessment\nHelp for breathing patients\nProviding treatment for non-breathing patients who have signs of sufficient circulation\nTreatment for patients who are neither breathing nor have signs of adequate circulation (CPR)\nIndications for use\, and instruction in the use of an AED (Automated External Defibrillator)\nTreatment for patients with a severe airway obstruction – otherwise known as choking…\nAll topics covered should address infants\, children and adult patients\n\n\nOur price for our Atlanta BLS Healthcare Provider October 26th\, 2025 certification is $70. We believe our rates are much less than the Red Cross CPR Certification classes. American Heart Association BLS is the accepted CPR class for Healthcare Providers in the United States. Online BLS Certification classes state they are the same as AHA but are not. If you need BLS Healthcare Provider CPR Certification\, make sure it is an American Heart Association class! \nWe take great pride in the quality of our classes and our great BLS class prices! We want you to enjoy your BLS Class!
URL:https://www.gacpr.com/class/bls-for-healthcare-providers-cpr-certification-in-atlanta-10/
LOCATION:Georgia CPR LLC\, 2296 Henderson Mill Rd\, Suite 102\, Atlanta\, GA\, 30345\, United States
CATEGORIES:BLS
ATTACH;FMTTYPE=image/jpeg:https://www.gacpr.com/wp-content/uploads/2016/02/BLS.jpg
ORGANIZER;CN="Ben Karp":MAILTO:ben@gacpr.com
GEO:33.852438;-84.259313
X-APPLE-STRUCTURED-LOCATION;VALUE=URI;X-ADDRESS=Georgia CPR LLC 2296 Henderson Mill Rd Suite 102 Atlanta GA 30345 United States;X-APPLE-RADIUS=500;X-TITLE=2296 Henderson Mill Rd\, Suite 102:geo:-84.259313,33.852438
END:VEVENT
END:VCALENDAR